BEGIN:VCALENDAR
VERSION:2.0
PRODID:-//wmmi.org//NONSGML kigkonsult.se iCalcreator 2.30.10//
CALSCALE:GREGORIAN
METHOD:PUBLISH
UID:19105363-f8a9-498f-bc91-2c917c6985e7
X-WR-CALDESC:Fresh\, local fruits and vegetables\, plus other guest vendors
  each week.  There is always something new at the Farmers Market
X-WR-RELCALID:6cb42d879e5a0f452e607834378ef50a
X-WR-TIMEZONE:America/Denver
BEGIN:VTIMEZONE
TZID:America/Denver
BEGIN:STANDARD
TZNAME:MST
DTSTART:20201101T020000
TZOFFSETFROM:-0600
TZOFFSETTO:-0700
RDATE:20211107T020000
RDATE:20221106T020000
END:STANDARD
BEGIN:DAYLIGHT
TZNAME:MDT
DTSTART:20210314T020000
TZOFFSETFROM:-0700
TZOFFSETTO:-0600
RDATE:20220313T020000
END:DAYLIGHT
END:VTIMEZONE
BEGIN:VEVENT
UID:9d0d3e69-f2e3-4eb2-9905-cabaa770e735
DTSTAMP:20260424T151124Z
DESCRIPTION:Fresh\, local fruits and vegetables\, plus other guest vendors 
 each week.  There is always something new at the Farmers Market
DTSTART;TZID=America/Denver:20210802T100000
DTEND;TZID=America/Denver:20210802T170000
LOCATION:
SUMMARY:Farmers Market
END:VEVENT
END:VCALENDAR
