BEGIN:VCALENDAR
VERSION:2.0
PRODID:-//wmmi.org//NONSGML kigkonsult.se iCalcreator 2.30.10//
CALSCALE:GREGORIAN
METHOD:PUBLISH
UID:f05b69c7-0b5d-479a-a836-384dbfd7b249
X-WR-CALDESC:
X-WR-RELCALID:d655a7f3c0ad1e2676628c1610a99daf
X-WR-TIMEZONE:America/Denver
BEGIN:VTIMEZONE
TZID:America/Denver
BEGIN:STANDARD
TZNAME:MST
DTSTART:20291104T020000
TZOFFSETFROM:-0600
TZOFFSETTO:-0700
RDATE:20301103T020000
END:STANDARD
BEGIN:DAYLIGHT
TZNAME:MDT
DTSTART:20290311T020000
TZOFFSETFROM:-0700
TZOFFSETTO:-0600
RDATE:20300310T020000
RDATE:20310309T020000
END:DAYLIGHT
END:VTIMEZONE
BEGIN:VEVENT
UID:4d204b63-e900-42cf-837b-09fe95d03b01
DTSTAMP:20260425T223455Z
DESCRIPTION:
DTSTART;TZID=America/Denver:20291225T040000
DTEND;TZID=America/Denver:20291225T040001
LOCATION:
SUMMARY:Christmas: Museum is Closed
END:VEVENT
END:VCALENDAR
