BEGIN:VCALENDAR
VERSION:2.0
PRODID:-//wmmi.org//NONSGML kigkonsult.se iCalcreator 2.30.10//
CALSCALE:GREGORIAN
METHOD:PUBLISH
UID:9044db92-321a-4fc3-950b-722b4f5cfd31
X-WR-CALDESC:
X-WR-RELCALID:578d7223149661b886cf038038ba988b
X-WR-TIMEZONE:America/Denver
BEGIN:VTIMEZONE
TZID:America/Denver
BEGIN:STANDARD
TZNAME:MST
DTSTART:20271107T020000
TZOFFSETFROM:-0600
TZOFFSETTO:-0700
RDATE:20281105T020000
END:STANDARD
BEGIN:DAYLIGHT
TZNAME:MDT
DTSTART:20270314T020000
TZOFFSETFROM:-0700
TZOFFSETTO:-0600
RDATE:20280312T020000
RDATE:20290311T020000
END:DAYLIGHT
END:VTIMEZONE
BEGIN:VEVENT
UID:2a1cc7d2-c0da-4b03-be23-858eeb1b7505
DTSTAMP:20260422T154453Z
DESCRIPTION:
DTSTART;TZID=America/Denver:20271225T040000
DTEND;TZID=America/Denver:20271225T040001
LOCATION:
SUMMARY:Christmas: Museum is Closed
END:VEVENT
END:VCALENDAR
