BEGIN:VCALENDAR
VERSION:2.0
PRODID:-//wmmi.org//NONSGML kigkonsult.se iCalcreator 2.30.10//
CALSCALE:GREGORIAN
METHOD:PUBLISH
UID:7615c1ec-bb4b-46e0-b999-5b4ce2047177
X-WR-CALDESC:Al la carte mornings from 9 - 12p. Stay one morning or join us
  for all three! Themes will vary daily\, with activities designed for grad
 es 3-5.
X-WR-RELCALID:f8ad51194bcac9459ca038d00bb5fa1e
X-WR-TIMEZONE:America/Denver
BEGIN:VTIMEZONE
TZID:America/Denver
BEGIN:STANDARD
TZNAME:MST
DTSTART:20261101T020000
TZOFFSETFROM:-0600
TZOFFSETTO:-0700
RDATE:20271107T020000
END:STANDARD
BEGIN:DAYLIGHT
TZNAME:MDT
DTSTART:20260308T020000
TZOFFSETFROM:-0700
TZOFFSETTO:-0600
RDATE:20270314T020000
RDATE:20280312T020000
END:DAYLIGHT
END:VTIMEZONE
BEGIN:VEVENT
UID:072326c4-a6bf-48d3-a0cd-045154206c4a
DTSTAMP:20260421T212252Z
DESCRIPTION:Al la carte mornings from 9 - 12p. Stay one morning or join us 
 for all three! Themes will vary daily\, with activities designed for grade
 s 3-5.
DTSTART;TZID=America/Denver:20261230T090000
DTEND;TZID=America/Denver:20261230T120000
LOCATION:225 N Gate Blvd\, Colorado Springs\, CO 80921 US
SUMMARY:Winter Break STEAM Camp
END:VEVENT
END:VCALENDAR
