BEGIN:VCALENDAR
VERSION:2.0
PRODID:-//wmmi.org//NONSGML kigkonsult.se iCalcreator 2.30.10//
CALSCALE:GREGORIAN
METHOD:PUBLISH
UID:06641817-bf67-4308-830d-7f1ecc0f5800
X-WR-CALDESC:Al la carte mornings from 9 - 12p. Stay one morning or join us
  for all three! Themes will vary daily\, with activities designed for grad
 es 3-5.
X-WR-RELCALID:0bfcdbbf2179176196c80d4629a959a4
X-WR-TIMEZONE:America/Denver
BEGIN:VTIMEZONE
TZID:America/Denver
BEGIN:STANDARD
TZNAME:MST
DTSTART:20261101T020000
TZOFFSETFROM:-0600
TZOFFSETTO:-0700
RDATE:20271107T020000
END:STANDARD
BEGIN:DAYLIGHT
TZNAME:MDT
DTSTART:20260308T020000
TZOFFSETFROM:-0700
TZOFFSETTO:-0600
RDATE:20270314T020000
RDATE:20280312T020000
END:DAYLIGHT
END:VTIMEZONE
BEGIN:VEVENT
UID:cfea2582-571c-4ae5-a30f-8da96b00e047
DTSTAMP:20260421T212222Z
DESCRIPTION:Al la carte mornings from 9 - 12p. Stay one morning or join us 
 for all three! Themes will vary daily\, with activities designed for grade
 s 3-5.
DTSTART;TZID=America/Denver:20261229T090000
DTEND;TZID=America/Denver:20261229T120000
LOCATION:225 N Gate Blvd\, Colorado Springs\, CO 80921 US
SUMMARY:Winter Break STEAM Camp
END:VEVENT
END:VCALENDAR
