BEGIN:VCALENDAR
VERSION:2.0
PRODID:-//wmmi.org//NONSGML kigkonsult.se iCalcreator 2.30.10//
CALSCALE:GREGORIAN
METHOD:PUBLISH
UID:0cdc0b8c-9a98-4676-a254-8e038a36b73f
X-WR-CALDESC:
X-WR-RELCALID:a8d8e0a5edd368bd82b1594e8f0c1306
X-WR-TIMEZONE:America/Denver
BEGIN:VTIMEZONE
TZID:America/Denver
BEGIN:STANDARD
TZNAME:MST
DTSTART:20261101T020000
TZOFFSETFROM:-0600
TZOFFSETTO:-0700
RDATE:20271107T020000
END:STANDARD
BEGIN:DAYLIGHT
TZNAME:MDT
DTSTART:20260308T020000
TZOFFSETFROM:-0700
TZOFFSETTO:-0600
RDATE:20270314T020000
RDATE:20280312T020000
END:DAYLIGHT
END:VTIMEZONE
BEGIN:VEVENT
UID:aa0537f0-f753-4d03-873d-0d74cdd0b16a
DTSTAMP:20260421T211829Z
DESCRIPTION:
DTSTART;TZID=America/Denver:20261225T040000
DTEND;TZID=America/Denver:20261225T040001
LOCATION:
SUMMARY:Christmas: Museum is Closed
END:VEVENT
END:VCALENDAR
