BEGIN:VCALENDAR
VERSION:2.0
PRODID:-//wmmi.org//NONSGML kigkonsult.se iCalcreator 2.30.10//
CALSCALE:GREGORIAN
METHOD:PUBLISH
UID:e48467a7-44f4-4c8a-8cda-b71f7cb4c255
X-WR-CALDESC:Each monthly session will feature a different STEM or Colorado
  History topic where we explore in the classroom\, in the museum and throu
 ghout the historic Museum Campus.\nWe do require that a supervising adult 
 be present\, but you may work together with other Homeschool families to c
 oordinate supervision. Students of outlying ages/abilities may receive oth
 er age-appropriate activities. For further inquires\, please speak with ou
 r Education Coordinator at education@wmmi.org.
X-WR-RELCALID:1e1ddd2cec8c0d69a17ca438ace5d089
X-WR-TIMEZONE:America/Denver
BEGIN:VTIMEZONE
TZID:America/Denver
BEGIN:STANDARD
TZNAME:MST
DTSTART:20261101T020000
TZOFFSETFROM:-0600
TZOFFSETTO:-0700
RDATE:20271107T020000
END:STANDARD
BEGIN:DAYLIGHT
TZNAME:MDT
DTSTART:20260308T020000
TZOFFSETFROM:-0700
TZOFFSETTO:-0600
RDATE:20270314T020000
RDATE:20280312T020000
END:DAYLIGHT
END:VTIMEZONE
BEGIN:VEVENT
UID:6480021f-e656-4fa5-86a6-6f2d0165e2c4
DTSTAMP:20260421T211713Z
DESCRIPTION:Each monthly session will feature a different STEM or Colorado 
 History topic where we explore in the classroom\, in the museum and throug
 hout the historic Museum Campus.\nWe do require that a supervising adult b
 e present\, but you may work together with other Homeschool families to co
 ordinate supervision. Students of outlying ages/abilities may receive othe
 r age-appropriate activities. For further inquires\, please speak with our
  Education Coordinator at education@wmmi.org.
DTSTART;TZID=America/Denver:20261209T130000
DTEND;TZID=America/Denver:20261209T143000
LOCATION:225 N Gate Blvd\, Colorado Springs\, CO 80921 US
SUMMARY:Homeschool Day - Mine Drift Model
END:VEVENT
END:VCALENDAR
