BEGIN:VCALENDAR
VERSION:2.0
PRODID:-//wmmi.org//NONSGML kigkonsult.se iCalcreator 2.30.10//
CALSCALE:GREGORIAN
METHOD:PUBLISH
UID:d997f087-9223-4ce3-a5d2-54defe60f4f8
X-WR-CALDESC:
X-WR-RELCALID:5aafb63edd88d100351dddf873ad5710
X-WR-TIMEZONE:America/Denver
BEGIN:VTIMEZONE
TZID:America/Denver
BEGIN:STANDARD
TZNAME:MST
DTSTART:20261101T020000
TZOFFSETFROM:-0600
TZOFFSETTO:-0700
RDATE:20271107T020000
END:STANDARD
BEGIN:DAYLIGHT
TZNAME:MDT
DTSTART:20260308T020000
TZOFFSETFROM:-0700
TZOFFSETTO:-0600
RDATE:20270314T020000
RDATE:20280312T020000
END:DAYLIGHT
END:VTIMEZONE
BEGIN:VEVENT
UID:61a51d93-b1ce-4583-9977-92ac9e474d78
DTSTAMP:20260421T194319Z
DESCRIPTION:
DTSTART;TZID=America/Denver:20261110T160000
DTEND;TZID=America/Denver:20261110T170000
LOCATION:225 N Gate Blvd\, Colorado Springs\, CO 80921 US
SUMMARY:Lecture Series - John Howe & Michael Weinfeld\, Monument Cemetery
END:VEVENT
END:VCALENDAR
