BEGIN:VCALENDAR
VERSION:2.0
PRODID:-//wmmi.org//NONSGML kigkonsult.se iCalcreator 2.30.10//
CALSCALE:GREGORIAN
METHOD:PUBLISH
UID:b2718bab-bfa4-4e58-814f-1a8e7eaca1bf
X-WR-CALDESC:
X-WR-RELCALID:2ad6fc42569086c8613694fecefc1a15
X-WR-TIMEZONE:America/Denver
BEGIN:VTIMEZONE
TZID:America/Denver
BEGIN:STANDARD
TZNAME:MST
DTSTART:20251102T020000
TZOFFSETFROM:-0600
TZOFFSETTO:-0700
RDATE:20261101T020000
RDATE:20271107T020000
END:STANDARD
BEGIN:DAYLIGHT
TZNAME:MDT
DTSTART:20260308T020000
TZOFFSETFROM:-0700
TZOFFSETTO:-0600
RDATE:20270314T020000
RDATE:20280312T020000
END:DAYLIGHT
END:VTIMEZONE
BEGIN:VEVENT
UID:49541e00-c653-406b-99c2-b4dc957b6e10
DTSTAMP:20260421T182921Z
DESCRIPTION:
DTSTART;TZID=America/Denver:20261013T160000
DTEND;TZID=America/Denver:20261013T170000
LOCATION:225 N Gate Blvd\, Colorado Springs\, CO 80921 US
SUMMARY:Lecture Series - Jim Crompton\, Future of the Mines
END:VEVENT
END:VCALENDAR
