BEGIN:VCALENDAR
VERSION:2.0
PRODID:-//wmmi.org//NONSGML kigkonsult.se iCalcreator 2.30.10//
CALSCALE:GREGORIAN
METHOD:PUBLISH
UID:ee60cb23-c254-4c20-b19f-50e95f4efb2f
X-WR-CALDESC:
X-WR-RELCALID:9a38ce425d67110864f75256c669ebec
X-WR-TIMEZONE:America/Denver
BEGIN:VTIMEZONE
TZID:America/Denver
BEGIN:STANDARD
TZNAME:MST
DTSTART:20251102T020000
TZOFFSETFROM:-0600
TZOFFSETTO:-0700
RDATE:20261101T020000
RDATE:20271107T020000
END:STANDARD
BEGIN:DAYLIGHT
TZNAME:MDT
DTSTART:20260308T020000
TZOFFSETFROM:-0700
TZOFFSETTO:-0600
RDATE:20270314T020000
END:DAYLIGHT
END:VTIMEZONE
BEGIN:VEVENT
UID:f5c99fe0-c5bb-431b-b379-9e5eceaea993
DTSTAMP:20260421T171223Z
DESCRIPTION:
DTSTART;TZID=America/Denver:20260908T170000
DTEND;TZID=America/Denver:20260908T180000
LOCATION:225 N Gate Blvd\, Colorado Springs\, CO 80921 US
SUMMARY:Lecture Series - John Harner\, Geology of the Pikes Peak Region
END:VEVENT
END:VCALENDAR
