BEGIN:VCALENDAR
VERSION:2.0
PRODID:-//wmmi.org//NONSGML kigkonsult.se iCalcreator 2.30.10//
CALSCALE:GREGORIAN
METHOD:PUBLISH
UID:1a192369-934a-4e88-946d-281577af1b43
X-WR-CALDESC:
X-WR-RELCALID:cf219c451c1f49ef9865ddb8c50a0af9
X-WR-TIMEZONE:America/Denver
BEGIN:VTIMEZONE
TZID:America/Denver
BEGIN:STANDARD
TZNAME:MST
DTSTART:20251102T020000
TZOFFSETFROM:-0600
TZOFFSETTO:-0700
RDATE:20261101T020000
RDATE:20271107T020000
END:STANDARD
BEGIN:DAYLIGHT
TZNAME:MDT
DTSTART:20260308T020000
TZOFFSETFROM:-0700
TZOFFSETTO:-0600
RDATE:20270314T020000
END:DAYLIGHT
END:VTIMEZONE
BEGIN:VEVENT
UID:ffd80633-52e7-4655-af00-b23afc52d198
DTSTAMP:20260421T152518Z
DESCRIPTION:
DTSTART;TZID=America/Denver:20260811T160000
DTEND;TZID=America/Denver:20260811T170000
LOCATION:225 N Gate Blvd\, Colorado Springs\, CO 80921 US
SUMMARY:Lecture Series - Wayne Russert\, Effect of Electrical Power on Rura
 l Areas in the 19030s and 40s
END:VEVENT
END:VCALENDAR
