BEGIN:VCALENDAR
VERSION:2.0
PRODID:-//wmmi.org//NONSGML kigkonsult.se iCalcreator 2.30.10//
CALSCALE:GREGORIAN
METHOD:PUBLISH
UID:516dcd84-29fa-49f1-a698-dc39d469d19f
X-WR-CALDESC:
X-WR-RELCALID:90d38aacb8baa6d9a99e47ee488cc9b0
X-WR-TIMEZONE:America/Denver
BEGIN:VTIMEZONE
TZID:America/Denver
BEGIN:STANDARD
TZNAME:MST
DTSTART:20251102T020000
TZOFFSETFROM:-0600
TZOFFSETTO:-0700
RDATE:20261101T020000
RDATE:20271107T020000
END:STANDARD
BEGIN:DAYLIGHT
TZNAME:MDT
DTSTART:20260308T020000
TZOFFSETFROM:-0700
TZOFFSETTO:-0600
RDATE:20270314T020000
END:DAYLIGHT
END:VTIMEZONE
BEGIN:VEVENT
UID:725622e5-0ac4-446a-91df-fb03921e0d1a
DTSTAMP:20260421T135936Z
DESCRIPTION:
DTSTART;TZID=America/Denver:20260714T160000
DTEND;TZID=America/Denver:20260714T170000
LOCATION:225 N Gate Blvd\, Colorado Springs\, CO 80921 US
SUMMARY:Lecture Series - John Haney\, Colorado Springs Trolley System
END:VEVENT
END:VCALENDAR
