BEGIN:VCALENDAR
VERSION:2.0
PRODID:-//wmmi.org//NONSGML kigkonsult.se iCalcreator 2.30.10//
CALSCALE:GREGORIAN
METHOD:PUBLISH
UID:3126c41d-67a3-409e-80cd-bf6adf40dd15
X-WR-CALDESC:The WMMI Team is delighted to have you join us at our STEAM Ca
 mp sponsored by Orica! We are looking forward to exciting discoveries and 
 science adventures\; collaborating with new friends\; and making lasting m
 emories. Activities are designed with grades 3-5 in mind!\n\nFull week AM 
 and/or PM Sessions available.\n\nAM session = 9am - 12pm\nLunch (not provi
 ded by museum) = 12pm - 1pm\nPM session = 1pm - 4pm
X-WR-RELCALID:195652bab91c3caed4056100a9345c70
X-WR-TIMEZONE:America/Denver
BEGIN:VTIMEZONE
TZID:America/Denver
BEGIN:STANDARD
TZNAME:MST
DTSTART:20251102T020000
TZOFFSETFROM:-0600
TZOFFSETTO:-0700
RDATE:20261101T020000
RDATE:20271107T020000
END:STANDARD
BEGIN:DAYLIGHT
TZNAME:MDT
DTSTART:20260308T020000
TZOFFSETFROM:-0700
TZOFFSETTO:-0600
RDATE:20270314T020000
END:DAYLIGHT
END:VTIMEZONE
BEGIN:VEVENT
UID:2472d507-660b-4989-9e96-bed617472598
DTSTAMP:20260421T124514Z
DESCRIPTION:The WMMI Team is delighted to have you join us at our STEAM Cam
 p sponsored by Orica! We are looking forward to exciting discoveries and s
 cience adventures\; collaborating with new friends\; and making lasting me
 mories. Activities are designed with grades 3-5 in mind!\n\nFull week AM a
 nd/or PM Sessions available.\n\nAM session = 9am - 12pm\nLunch (not provid
 ed by museum) = 12pm - 1pm\nPM session = 1pm - 4pm
DTSTART;TZID=America/Denver:20260626T130000
DTEND;TZID=America/Denver:20260626T160000
LOCATION:225 N Gate Blvd\, Colorado Springs\, CO 80921 US
SUMMARY:Summer STEAM Camp PM
END:VEVENT
END:VCALENDAR
