BEGIN:VCALENDAR
VERSION:2.0
PRODID:-//wmmi.org//NONSGML kigkonsult.se iCalcreator 2.30.10//
CALSCALE:GREGORIAN
METHOD:PUBLISH
UID:dec638f4-197f-4cb6-b0c3-79f3fa4da772
X-WR-CALDESC:
X-WR-RELCALID:e6bd5947a2ed86a9645d0df627deb2a5
X-WR-TIMEZONE:America/Denver
BEGIN:VTIMEZONE
TZID:America/Denver
BEGIN:STANDARD
TZNAME:MST
DTSTART:20251102T020000
TZOFFSETFROM:-0600
TZOFFSETTO:-0700
RDATE:20261101T020000
RDATE:20271107T020000
END:STANDARD
BEGIN:DAYLIGHT
TZNAME:MDT
DTSTART:20260308T020000
TZOFFSETFROM:-0700
TZOFFSETTO:-0600
RDATE:20270314T020000
END:DAYLIGHT
END:VTIMEZONE
BEGIN:VEVENT
UID:b8582db2-21ad-4064-a298-2f0b6d075bfa
DTSTAMP:20260421T123251Z
DESCRIPTION:
DTSTART;TZID=America/Denver:20260609T160000
DTEND;TZID=America/Denver:20260609T170000
LOCATION:225 N Gate Blvd\, Colorado Springs\, CO 80921 US
SUMMARY:Lecture Series - Mark Hanson\, Terryall Gold Rush
END:VEVENT
END:VCALENDAR
