BEGIN:VCALENDAR
VERSION:2.0
PRODID:-//wmmi.org//NONSGML kigkonsult.se iCalcreator 2.30.10//
CALSCALE:GREGORIAN
METHOD:PUBLISH
UID:baa844af-7a8c-4eb4-b80b-05cbd6b3f466
X-WR-CALDESC:It's fun to learn when learning is fun!\n\nSponsored by Orica.
 \n\nWe have three days available\; you can select sessions individually or
  choose to attend the full day of activities.\n\nTuesday March 24th\nAM se
 ssion: Mining\nPM session: Industry\n\nWednesday March 25th\nAM session: G
 eology\nPM session: Chemistry\n\nThursday March 26th\nAM session: Electric
 ity\nPM session: Physics
X-WR-RELCALID:7c34ba5b684cda895f679f715bd40f05
X-WR-TIMEZONE:America/Denver
BEGIN:VTIMEZONE
TZID:America/Denver
BEGIN:STANDARD
TZNAME:MST
DTSTART:20251102T020000
TZOFFSETFROM:-0600
TZOFFSETTO:-0700
RDATE:20261101T020000
END:STANDARD
BEGIN:DAYLIGHT
TZNAME:MDT
DTSTART:20260308T020000
TZOFFSETFROM:-0700
TZOFFSETTO:-0600
RDATE:20270314T020000
END:DAYLIGHT
END:VTIMEZONE
BEGIN:VEVENT
UID:d51449a1-c04d-496b-840b-f6fedcadd4b7
DTSTAMP:20260421T110241Z
DESCRIPTION:It's fun to learn when learning is fun!\n\nSponsored by Orica.
 \n\nWe have three days available\; you can select sessions individually or
  choose to attend the full day of activities.\n\nTuesday March 24th\nAM se
 ssion: Mining\nPM session: Industry\n\nWednesday March 25th\nAM session: G
 eology\nPM session: Chemistry\n\nThursday March 26th\nAM session: Electric
 ity\nPM session: Physics
DTSTART;TZID=America/Denver:20260326T090000
DTEND;TZID=America/Denver:20260326T120000
LOCATION:225 N Gate Blvd\, Colorado Springs\, CO 80921 US
SUMMARY:Spring Break STEaM Camp - AM Session
END:VEVENT
END:VCALENDAR
