BEGIN:VCALENDAR
VERSION:2.0
PRODID:-//wmmi.org//NONSGML kigkonsult.se iCalcreator 2.30.10//
CALSCALE:GREGORIAN
METHOD:PUBLISH
UID:fa9e5910-1012-4d6d-9b2f-072e513f0e47
X-WR-CALDESC:It's fun to learn when learning is fun!\n\nSponsored by Orica.
 \n\nWe have three days available\; you can select sessions individually or
  choose to attend the full day of activities.\n\nTuesday March 24th\nAM se
 ssion: Mining\nPM session: Industry\n\nWednesday March 25th\nAM session: G
 eology\nPM session: Chemistry\n\nThursday March 26th\nAM session: Electric
 ity\nPM session: Physics
X-WR-RELCALID:cd67f4a38c8c7fc99d1eda15e4c2d906
X-WR-TIMEZONE:America/Denver
BEGIN:VTIMEZONE
TZID:America/Denver
BEGIN:STANDARD
TZNAME:MST
DTSTART:20251102T020000
TZOFFSETFROM:-0600
TZOFFSETTO:-0700
RDATE:20261101T020000
END:STANDARD
BEGIN:DAYLIGHT
TZNAME:MDT
DTSTART:20260308T020000
TZOFFSETFROM:-0700
TZOFFSETTO:-0600
RDATE:20270314T020000
END:DAYLIGHT
END:VTIMEZONE
BEGIN:VEVENT
UID:bc9f4659-4647-4d1c-a9aa-70d7f137c64b
DTSTAMP:20260421T110321Z
DESCRIPTION:It's fun to learn when learning is fun!\n\nSponsored by Orica.
 \n\nWe have three days available\; you can select sessions individually or
  choose to attend the full day of activities.\n\nTuesday March 24th\nAM se
 ssion: Mining\nPM session: Industry\n\nWednesday March 25th\nAM session: G
 eology\nPM session: Chemistry\n\nThursday March 26th\nAM session: Electric
 ity\nPM session: Physics
DTSTART;TZID=America/Denver:20260325T130000
DTEND;TZID=America/Denver:20260325T160000
LOCATION:225 N Gate Blvd\, Colorado Springs\, CO 80921 US
SUMMARY:Spring Break STEaM Camp - PM Session
END:VEVENT
END:VCALENDAR
