BEGIN:VCALENDAR
VERSION:2.0
PRODID:-//wmmi.org//NONSGML kigkonsult.se iCalcreator 2.30.10//
CALSCALE:GREGORIAN
METHOD:PUBLISH
UID:9e90e564-7fe5-473f-ba96-33b8f0fb31f9
X-WR-CALDESC:It's fun to learn when learning is fun!\n\nSponsored by Orica.
 \n\nWe have three days available\; you can select sessions individually or
  choose to attend the full day of activities.\n\nTuesday March 24th\nAM se
 ssion: Mining\nPM session: Industry\n\nWednesday March 25th\nAM session: G
 eology\nPM session: Chemistry\n\nThursday March 26th\nAM session: Electric
 ity\nPM session: Physics
X-WR-RELCALID:ed511a4206af172f7c5d9a2a68c667fe
X-WR-TIMEZONE:America/Denver
BEGIN:VTIMEZONE
TZID:America/Denver
BEGIN:STANDARD
TZNAME:MST
DTSTART:20251102T020000
TZOFFSETFROM:-0600
TZOFFSETTO:-0700
RDATE:20261101T020000
END:STANDARD
BEGIN:DAYLIGHT
TZNAME:MDT
DTSTART:20260308T020000
TZOFFSETFROM:-0700
TZOFFSETTO:-0600
RDATE:20270314T020000
END:DAYLIGHT
END:VTIMEZONE
BEGIN:VEVENT
UID:45210bd0-15df-4e6b-98b9-ccde2ebbc2c4
DTSTAMP:20260421T111633Z
DESCRIPTION:It's fun to learn when learning is fun!\n\nSponsored by Orica.
 \n\nWe have three days available\; you can select sessions individually or
  choose to attend the full day of activities.\n\nTuesday March 24th\nAM se
 ssion: Mining\nPM session: Industry\n\nWednesday March 25th\nAM session: G
 eology\nPM session: Chemistry\n\nThursday March 26th\nAM session: Electric
 ity\nPM session: Physics
DTSTART;TZID=America/Denver:20260324T130000
DTEND;TZID=America/Denver:20260324T160000
LOCATION:225 N Gate Blvd\, Colorado Springs\, CO 80921 US
SUMMARY:Spring Break STEaM Camp - PM Session
END:VEVENT
END:VCALENDAR
