BEGIN:VCALENDAR
VERSION:2.0
PRODID:-//wmmi.org//NONSGML kigkonsult.se iCalcreator 2.30.10//
CALSCALE:GREGORIAN
METHOD:PUBLISH
UID:1aad52ad-3e3d-4e0f-adbf-058e88052046
X-WR-CALDESC:It's fun to learn when learning is fun!\n\nSponsored by Orica.
 \n\nWe have three days available\; you can select sessions individually or
  choose to attend the full day of activities.\n\nTuesday March 24th\nAM se
 ssion: Mining\nPM session: Industry\n\nWednesday March 25th\nAM session: G
 eology\nPM session: Chemistry\n\nThursday March 26th\nAM session: Electric
 ity\nPM session: Physics
X-WR-RELCALID:87a688f8e8b68e911585c094b6174646
X-WR-TIMEZONE:America/Denver
BEGIN:VTIMEZONE
TZID:America/Denver
BEGIN:STANDARD
TZNAME:MST
DTSTART:20251102T020000
TZOFFSETFROM:-0600
TZOFFSETTO:-0700
RDATE:20261101T020000
END:STANDARD
BEGIN:DAYLIGHT
TZNAME:MDT
DTSTART:20260308T020000
TZOFFSETFROM:-0700
TZOFFSETTO:-0600
RDATE:20270314T020000
END:DAYLIGHT
END:VTIMEZONE
BEGIN:VEVENT
UID:8f3b4835-a9d7-45eb-b8fd-5197de578ac1
DTSTAMP:20260421T110241Z
DESCRIPTION:It's fun to learn when learning is fun!\n\nSponsored by Orica.
 \n\nWe have three days available\; you can select sessions individually or
  choose to attend the full day of activities.\n\nTuesday March 24th\nAM se
 ssion: Mining\nPM session: Industry\n\nWednesday March 25th\nAM session: G
 eology\nPM session: Chemistry\n\nThursday March 26th\nAM session: Electric
 ity\nPM session: Physics
DTSTART;TZID=America/Denver:20260324T090000
DTEND;TZID=America/Denver:20260324T120000
LOCATION:225 N Gate Blvd\, Colorado Springs\, CO 80921 US
SUMMARY:Spring Break STEaM Camp - AM Session
END:VEVENT
END:VCALENDAR
