BEGIN:VCALENDAR
VERSION:2.0
PRODID:-//wmmi.org//NONSGML kigkonsult.se iCalcreator 2.30.10//
CALSCALE:GREGORIAN
METHOD:PUBLISH
UID:1da1a18e-f81d-4597-bf07-40438e95b3a9
X-WR-CALDESC:A hands-on workshop in the Museum's Historic Apple Orchard lea
 rning to graft with scions from Heritage Apple tree varieties.\n\nThe Muse
 um is a fully non-smoking venue. Service dogs only allowed. There is plent
 y of parking and designated handicap parking spaces. Be prepared for outdo
 or weather as this workshop will take place outside in the Museum's histor
 ic Apple Orchard.
X-WR-RELCALID:e17ef7bd8a891cbd11b7536a94bbb211
X-WR-TIMEZONE:America/Denver
BEGIN:VTIMEZONE
TZID:America/Denver
BEGIN:STANDARD
TZNAME:MST
DTSTART:20251102T020000
TZOFFSETFROM:-0600
TZOFFSETTO:-0700
RDATE:20261101T020000
END:STANDARD
BEGIN:DAYLIGHT
TZNAME:MDT
DTSTART:20260308T020000
TZOFFSETFROM:-0700
TZOFFSETTO:-0600
RDATE:20270314T020000
END:DAYLIGHT
END:VTIMEZONE
BEGIN:VEVENT
UID:14be267a-acd1-4081-8625-a57fcab1bc4b
DTSTAMP:20260421T110221Z
DESCRIPTION:A hands-on workshop in the Museum's Historic Apple Orchard lear
 ning to graft with scions from Heritage Apple tree varieties.\n\nThe Museu
 m is a fully non-smoking venue. Service dogs only allowed. There is plenty
  of parking and designated handicap parking spaces. Be prepared for outdoo
 r weather as this workshop will take place outside in the Museum's histori
 c Apple Orchard.
DTSTART;TZID=America/Denver:20260321T090000
DTEND;TZID=America/Denver:20260321T120000
LOCATION:225 N Gate Blvd\, Colorado Springs\, CO 80921 US
SUMMARY:A.P.P.L.E. Project: Grafting 101
END:VEVENT
END:VCALENDAR
