BEGIN:VCALENDAR
VERSION:2.0
PRODID:-//wmmi.org//NONSGML kigkonsult.se iCalcreator 2.30.10//
CALSCALE:GREGORIAN
METHOD:PUBLISH
UID:32e9bf17-7e81-44d2-b5f6-62a1effabc87
X-WR-CALDESC:Join us for a fun-filled Geology Day that the whole family wil
 l love! Explore hands-on\, immersive exhibits and discover the exciting wo
 rld of rocks\, minerals\, and mining together.
X-WR-RELCALID:cf40d5a0c4d0b31ac05eaa0f901f7f9f
X-WR-TIMEZONE:America/Denver
BEGIN:VTIMEZONE
TZID:America/Denver
BEGIN:STANDARD
TZNAME:MST
DTSTART:20251102T020000
TZOFFSETFROM:-0600
TZOFFSETTO:-0700
RDATE:20261101T020000
END:STANDARD
BEGIN:DAYLIGHT
TZNAME:MDT
DTSTART:20250309T020000
TZOFFSETFROM:-0700
TZOFFSETTO:-0600
RDATE:20260308T020000
RDATE:20270314T020000
END:DAYLIGHT
END:VTIMEZONE
BEGIN:VEVENT
UID:150bdc10-ac94-4865-88bb-e04d5cd0e7b6
DTSTAMP:20260421T123256Z
DESCRIPTION:Join us for a fun-filled Geology Day that the whole family will
  love! Explore hands-on\, immersive exhibits and discover the exciting wor
 ld of rocks\, minerals\, and mining together.
DTSTART;TZID=America/Denver:20260221T100000
DTEND;TZID=America/Denver:20260221T140000
LOCATION:225 N Gate Blvd\, Colorado Springs\, CO 80921 US
SUMMARY:Super Saturday - Geology
END:VEVENT
END:VCALENDAR
