BEGIN:VCALENDAR
VERSION:2.0
PRODID:-//wmmi.org//NONSGML kigkonsult.se iCalcreator 2.30.10//
CALSCALE:GREGORIAN
METHOD:PUBLISH
UID:ca980bc7-842d-4812-867a-53aa70365069
X-WR-CALDESC:The Leadville Irish and the Struggle to Honor Immigrant Pauper
 s at 10\,200 Feet\n\nIn this talk\, Walsh will highlight the important his
 tory of the Leadville Irish and their struggle for workers' rights in 10th
  century Leadville\; and how this research led to the construction of the 
 Leadville Irish Memorial. \n\nJames Walsh is a Political Science Professor
  at the University of Colorado Denver\, where he has taught for the past 2
 8 years. His decades of research into the history of Irish immigrants in 1
 9th century Leadville led to the construction of the Leadville Irish Memor
 ial\, unveiled in 2023. Walsh is also founder of the Romero Theater Troupe
 \, a community theater in Denver that has kept alive stories of workers in
  American history for the past 20 years\, and the Colorado Labor Education
  Collaborative\, a partnership between students\, scholars\, workers\, and
  organizers to expand access to Labor Education.
X-WR-RELCALID:8c91371434ce09063b0e99e95e945bab
X-WR-TIMEZONE:America/Denver
BEGIN:VTIMEZONE
TZID:America/Denver
BEGIN:STANDARD
TZNAME:MST
DTSTART:20251102T020000
TZOFFSETFROM:-0600
TZOFFSETTO:-0700
RDATE:20261101T020000
END:STANDARD
BEGIN:DAYLIGHT
TZNAME:MDT
DTSTART:20250309T020000
TZOFFSETFROM:-0700
TZOFFSETTO:-0600
RDATE:20260308T020000
RDATE:20270314T020000
END:DAYLIGHT
END:VTIMEZONE
BEGIN:VEVENT
UID:f1a2b92b-cc4e-49f8-9ef8-f2f805260c1c
DTSTAMP:20260421T124809Z
DESCRIPTION:The Leadville Irish and the Struggle to Honor Immigrant Paupers
  at 10\,200 Feet\n\nIn this talk\, Walsh will highlight the important hist
 ory of the Leadville Irish and their struggle for workers' rights in 10th 
 century Leadville\; and how this research led to the construction of the L
 eadville Irish Memorial. \n\nJames Walsh is a Political Science Professor 
 at the University of Colorado Denver\, where he has taught for the past 28
  years. His decades of research into the history of Irish immigrants in 19
 th century Leadville led to the construction of the Leadville Irish Memori
 al\, unveiled in 2023. Walsh is also founder of the Romero Theater Troupe\
 , a community theater in Denver that has kept alive stories of workers in 
 American history for the past 20 years\, and the Colorado Labor Education 
 Collaborative\, a partnership between students\, scholars\, workers\, and 
 organizers to expand access to Labor Education.
DTSTART;TZID=America/Denver:20260210T170000
DTEND;TZID=America/Denver:20260210T180000
LOCATION:225 N Gate Blvd\, Colorado Springs\, CO 80921 US
SUMMARY:Lecture Series - James Walsh\, Leadville Irish Miners
END:VEVENT
END:VCALENDAR
