BEGIN:VCALENDAR
VERSION:2.0
PRODID:-//wmmi.org//NONSGML kigkonsult.se iCalcreator 2.30.10//
CALSCALE:GREGORIAN
METHOD:PUBLISH
UID:53015e12-5aa6-4562-9dfe-1f7fa83d6f2f
X-WR-CALDESC:Al la carte mornings from 9 - 12p. Stay one morning or join us
  for all three! Themes will cover electricity\, physics and chemistry\, wi
 th activities designed for grades 3-5.
X-WR-RELCALID:2828f9c26c50d3475a8c268a959da7df
X-WR-TIMEZONE:America/Denver
BEGIN:VTIMEZONE
TZID:America/Denver
BEGIN:STANDARD
TZNAME:MST
DTSTART:20251102T020000
TZOFFSETFROM:-0600
TZOFFSETTO:-0700
RDATE:20261101T020000
END:STANDARD
BEGIN:DAYLIGHT
TZNAME:MDT
DTSTART:20250309T020000
TZOFFSETFROM:-0700
TZOFFSETTO:-0600
RDATE:20260308T020000
RDATE:20270314T020000
END:DAYLIGHT
END:VTIMEZONE
BEGIN:VEVENT
UID:cbdf5ef6-a4d9-45f3-85f9-e4d40bc105c9
DTSTAMP:20260421T152359Z
DESCRIPTION:Al la carte mornings from 9 - 12p. Stay one morning or join us 
 for all three! Themes will cover electricity\, physics and chemistry\, wit
 h activities designed for grades 3-5.
DTSTART;TZID=America/Denver:20251231T090000
DTEND;TZID=America/Denver:20251231T120000
LOCATION:225 N Gate Blvd\, Colorado Springs\, CO 80921 US
SUMMARY:Winter Break STEAM Camp
END:VEVENT
END:VCALENDAR
