BEGIN:VCALENDAR
VERSION:2.0
PRODID:-//wmmi.org//NONSGML kigkonsult.se iCalcreator 2.30.10//
CALSCALE:GREGORIAN
METHOD:PUBLISH
UID:687ddd50-762f-47d3-85bf-0c12ae916cdb
X-WR-CALDESC:Al la carte mornings from 9 - 12p. Stay one morning or join us
  for all three! Themes will cover electricity\, physics and chemistry\, wi
 th activities designed for grades 3-5.
X-WR-RELCALID:2ceec73a03aeee3f1a508f02b2140d9f
X-WR-TIMEZONE:America/Denver
BEGIN:VTIMEZONE
TZID:America/Denver
BEGIN:STANDARD
TZNAME:MST
DTSTART:20251102T020000
TZOFFSETFROM:-0600
TZOFFSETTO:-0700
RDATE:20261101T020000
END:STANDARD
BEGIN:DAYLIGHT
TZNAME:MDT
DTSTART:20250309T020000
TZOFFSETFROM:-0700
TZOFFSETTO:-0600
RDATE:20260308T020000
RDATE:20270314T020000
END:DAYLIGHT
END:VTIMEZONE
BEGIN:VEVENT
UID:2709a617-6353-4b07-a1fc-9c6004aefbc5
DTSTAMP:20260421T152354Z
DESCRIPTION:Al la carte mornings from 9 - 12p. Stay one morning or join us 
 for all three! Themes will cover electricity\, physics and chemistry\, wit
 h activities designed for grades 3-5.
DTSTART;TZID=America/Denver:20251229T090000
DTEND;TZID=America/Denver:20251229T120000
LOCATION:225 N Gate Blvd\, Colorado Springs\, CO 80921 US
SUMMARY:Winter Break STEAM Camp
END:VEVENT
END:VCALENDAR
