BEGIN:VCALENDAR
VERSION:2.0
PRODID:-//wmmi.org//NONSGML kigkonsult.se iCalcreator 2.30.10//
CALSCALE:GREGORIAN
METHOD:PUBLISH
UID:d9792cf5-45cc-4049-9df1-eee34cd96a13
X-WR-CALDESC:
X-WR-RELCALID:5f9d01fe0cf66e3405d98622c09bc82a
X-WR-TIMEZONE:America/Denver
BEGIN:VTIMEZONE
TZID:America/Denver
BEGIN:STANDARD
TZNAME:MST
DTSTART:20251102T020000
TZOFFSETFROM:-0600
TZOFFSETTO:-0700
RDATE:20261101T020000
END:STANDARD
BEGIN:DAYLIGHT
TZNAME:MDT
DTSTART:20250309T020000
TZOFFSETFROM:-0700
TZOFFSETTO:-0600
RDATE:20260308T020000
RDATE:20270314T020000
END:DAYLIGHT
END:VTIMEZONE
BEGIN:VEVENT
UID:1d276e08-06a5-4ea4-a25a-39c50e37e0c3
DTSTAMP:20260421T154035Z
DESCRIPTION:
DTSTART;TZID=America/Denver:20251225T040000
DTEND;TZID=America/Denver:20251225T040001
LOCATION:
SUMMARY:Christmas: Museum is Closed
END:VEVENT
END:VCALENDAR
