BEGIN:VCALENDAR
VERSION:2.0
PRODID:-//wmmi.org//NONSGML kigkonsult.se iCalcreator 2.30.10//
CALSCALE:GREGORIAN
METHOD:PUBLISH
UID:1c337fa5-8037-411c-be91-c3adf8162d0d
X-WR-CALDESC:The museum will be closed to allow our staff time with their f
 amilies.
X-WR-RELCALID:9a5dc1c9c0edc2d22daf8ae77ce48a96
X-WR-TIMEZONE:America/Denver
BEGIN:VTIMEZONE
TZID:America/Denver
BEGIN:STANDARD
TZNAME:MST
DTSTART:20251102T020000
TZOFFSETFROM:-0600
TZOFFSETTO:-0700
RDATE:20261101T020000
END:STANDARD
BEGIN:DAYLIGHT
TZNAME:MDT
DTSTART:20250309T020000
TZOFFSETFROM:-0700
TZOFFSETTO:-0600
RDATE:20260308T020000
RDATE:20270314T020000
END:DAYLIGHT
END:VTIMEZONE
BEGIN:VEVENT
UID:013a2595-6318-4942-8046-a1b5d7e1d7e2
DTSTAMP:20260421T165121Z
DESCRIPTION:The museum will be closed to allow our staff time with their fa
 milies.
DTSTART;TZID=America/Denver:20251127T040000
DTEND;TZID=America/Denver:20251127T040001
LOCATION:225 N Gate Blvd\, Colorado Springs\, CO 80921 US
SUMMARY:Thanksgiving: Museum is Closed
END:VEVENT
END:VCALENDAR
