BEGIN:VCALENDAR
VERSION:2.0
PRODID:-//wmmi.org//NONSGML kigkonsult.se iCalcreator 2.30.10//
CALSCALE:GREGORIAN
METHOD:PUBLISH
UID:04ca7eab-1db8-4ac1-b158-9af73b58832e
X-WR-CALDESC:It's fun to learn when learning is fun! \n\nFull and half-days
  available. AM Session focuses on mining and industry\, while the PM sessi
 on will focus on geology. These sessions are designed with grades 3 - 5 in
  mind\, but we are happy to work with older or younger students!
X-WR-RELCALID:8142da6f3c7e37bd83baeefdc0cca032
X-WR-TIMEZONE:America/Denver
BEGIN:VTIMEZONE
TZID:America/Denver
BEGIN:STANDARD
TZNAME:MST
DTSTART:20251102T020000
TZOFFSETFROM:-0600
TZOFFSETTO:-0700
RDATE:20261101T020000
END:STANDARD
BEGIN:DAYLIGHT
TZNAME:MDT
DTSTART:20250309T020000
TZOFFSETFROM:-0700
TZOFFSETTO:-0600
RDATE:20260308T020000
RDATE:20270314T020000
END:DAYLIGHT
END:VTIMEZONE
BEGIN:VEVENT
UID:78877f3c-e782-4df9-bcb9-032e290fba11
DTSTAMP:20260421T170816Z
DESCRIPTION:It's fun to learn when learning is fun! \n\nFull and half-days 
 available. AM Session focuses on mining and industry\, while the PM sessio
 n will focus on geology. These sessions are designed with grades 3 - 5 in 
 mind\, but we are happy to work with older or younger students!
DTSTART;TZID=America/Denver:20251124T090000
DTEND;TZID=America/Denver:20251124T150000
LOCATION:225 N Gate Blvd\, Colorado Springs\, CO 80921 US
SUMMARY:Thanksgiving Break STEaM Camp
END:VEVENT
END:VCALENDAR
