BEGIN:VCALENDAR
VERSION:2.0
PRODID:-//wmmi.org//NONSGML kigkonsult.se iCalcreator 2.30.10//
CALSCALE:GREGORIAN
METHOD:PUBLISH
UID:46c370a2-4357-4cbc-9d5f-5d80cbabb06d
X-WR-CALDESC:🎃Our Biggest Event of the Year… All October Long! 🍂n\nFall is 
 calling — and we’re answering with fun for the whole family\, every Saturd
 ay in October! 🍁\n\nGet ready for hayrides\, pumpkin picking\, lawn games\
 , food trucks\, and so much MORE. Each weekend brings something new — from
  magical moments with a real magician to up-close animal encounters and su
 rprise guest appearances you won’t want to miss!\n\nIt’s fall-filled fun y
 ou’ll want to come back for again and again. See you there! 🎪🍬
X-WR-RELCALID:caf416d2494de2e108c43f9341b25565
X-WR-TIMEZONE:America/Denver
BEGIN:VTIMEZONE
TZID:America/Denver
BEGIN:STANDARD
TZNAME:MST
DTSTART:20241103T020000
TZOFFSETFROM:-0600
TZOFFSETTO:-0700
RDATE:20251102T020000
RDATE:20261101T020000
END:STANDARD
BEGIN:DAYLIGHT
TZNAME:MDT
DTSTART:20250309T020000
TZOFFSETFROM:-0700
TZOFFSETTO:-0600
RDATE:20260308T020000
RDATE:20270314T020000
END:DAYLIGHT
END:VTIMEZONE
BEGIN:VEVENT
UID:ce33aefa-f94b-4b00-b750-8911f38c43d7
DTSTAMP:20260421T181549Z
DESCRIPTION:🎃Our Biggest Event of the Year… All October Long! 🍂n\nFall is c
 alling — and we’re answering with fun for the whole family\, every Saturda
 y in October! 🍁\n\nGet ready for hayrides\, pumpkin picking\, lawn games\,
  food trucks\, and so much MORE. Each weekend brings something new — from 
 magical moments with a real magician to up-close animal encounters and sur
 prise guest appearances you won’t want to miss!\n\nIt’s fall-filled fun yo
 u’ll want to come back for again and again. See you there! 🎪🍬
DTSTART;TZID=America/Denver:20251025T090000
DTEND;TZID=America/Denver:20251025T160000
LOCATION:225 N Gate Blvd\, Colorado Springs\, CO 80921 US
SUMMARY:Miners Pumpkin Patch
END:VEVENT
END:VCALENDAR
