BEGIN:VCALENDAR
VERSION:2.0
PRODID:-//wmmi.org//NONSGML kigkonsult.se iCalcreator 2.30.10//
CALSCALE:GREGORIAN
METHOD:PUBLISH
UID:e870fefc-153d-4866-a880-f37ecc340bf5
X-WR-CALDESC:This class will take place over the course of three hours. We 
 will start in the hoop houses\, where participants will witness the diggin
 g of dahlia crowns firsthand. After this\, we will move to an on-site clas
 sroom where we will provide hands-on learning for tuber division and prope
 r storage. Necessary class materials will be provided\, as well as light r
 efreshments. An extensive array of tubers will be available for purchase a
 t the end of class\, allowing participants to start or add to their dream 
 dahlia garden come spring!
X-WR-RELCALID:e1162fa49c9a493f137bbff903fbe843
X-WR-TIMEZONE:America/Denver
BEGIN:VTIMEZONE
TZID:America/Denver
BEGIN:STANDARD
TZNAME:MST
DTSTART:20241103T020000
TZOFFSETFROM:-0600
TZOFFSETTO:-0700
RDATE:20251102T020000
RDATE:20261101T020000
END:STANDARD
BEGIN:DAYLIGHT
TZNAME:MDT
DTSTART:20250309T020000
TZOFFSETFROM:-0700
TZOFFSETTO:-0600
RDATE:20260308T020000
RDATE:20270314T020000
END:DAYLIGHT
END:VTIMEZONE
BEGIN:VEVENT
UID:d6a5177a-caeb-4feb-a677-18e361da6548
DTSTAMP:20260421T182718Z
DESCRIPTION:This class will take place over the course of three hours. We w
 ill start in the hoop houses\, where participants will witness the digging
  of dahlia crowns firsthand. After this\, we will move to an on-site class
 room where we will provide hands-on learning for tuber division and proper
  storage. Necessary class materials will be provided\, as well as light re
 freshments. An extensive array of tubers will be available for purchase at
  the end of class\, allowing participants to start or add to their dream d
 ahlia garden come spring!
DTSTART;TZID=America/Denver:20251023T100000
DTEND;TZID=America/Denver:20251023T130000
LOCATION:225 N Gate Blvd\, Colorado Springs\, CO 80921 US
SUMMARY:DIanne's Dahlias - Tuber Digging\, Dividing and Storage Class
END:VEVENT
END:VCALENDAR
