BEGIN:VCALENDAR
VERSION:2.0
PRODID:-//wmmi.org//NONSGML kigkonsult.se iCalcreator 2.30.10//
CALSCALE:GREGORIAN
METHOD:PUBLISH
UID:90acec17-4030-4820-8d91-077c8dd49e2f
X-WR-CALDESC:🎃Our Biggest Event of the Year… All October Long! 🍂n\nFall is 
 calling — and we’re answering with fun for the whole family\, every Saturd
 ay in October! 🍁\n\nGet ready for hayrides\, pumpkin picking\, lawn games\
 , food trucks\, and so much MORE. Each weekend brings something new — from
  magical moments with a real magician to up-close animal encounters and su
 rprise guest appearances you won’t want to miss!\n\nIt’s fall-filled fun y
 ou’ll want to come back for again and again. See you there! 🎪🍬
X-WR-RELCALID:ce32cc967b6fb42cd0cc5666be4fc318
X-WR-TIMEZONE:America/Denver
BEGIN:VTIMEZONE
TZID:America/Denver
BEGIN:STANDARD
TZNAME:MST
DTSTART:20241103T020000
TZOFFSETFROM:-0600
TZOFFSETTO:-0700
RDATE:20251102T020000
RDATE:20261101T020000
END:STANDARD
BEGIN:DAYLIGHT
TZNAME:MDT
DTSTART:20250309T020000
TZOFFSETFROM:-0700
TZOFFSETTO:-0600
RDATE:20260308T020000
RDATE:20270314T020000
END:DAYLIGHT
END:VTIMEZONE
BEGIN:VEVENT
UID:a9e824c7-28ec-434a-9415-2160428e429e
DTSTAMP:20260421T183219Z
DESCRIPTION:🎃Our Biggest Event of the Year… All October Long! 🍂n\nFall is c
 alling — and we’re answering with fun for the whole family\, every Saturda
 y in October! 🍁\n\nGet ready for hayrides\, pumpkin picking\, lawn games\,
  food trucks\, and so much MORE. Each weekend brings something new — from 
 magical moments with a real magician to up-close animal encounters and sur
 prise guest appearances you won’t want to miss!\n\nIt’s fall-filled fun yo
 u’ll want to come back for again and again. See you there! 🎪🍬
DTSTART;TZID=America/Denver:20251018T090000
DTEND;TZID=America/Denver:20251018T160000
LOCATION:225 N Gate Blvd\, Colorado Springs\, CO 80921 US
SUMMARY:Miners Pumpkin Patch
END:VEVENT
END:VCALENDAR
