BEGIN:VCALENDAR
VERSION:2.0
PRODID:-//wmmi.org//NONSGML kigkonsult.se iCalcreator 2.30.10//
CALSCALE:GREGORIAN
METHOD:PUBLISH
UID:15c72c12-0624-4744-8a53-a365df64e120
X-WR-CALDESC:On September 30th\, we’re inviting you to gather at the farm f
 or an unforgettable night of snacks\, sips\, and bouquet-building. We’re t
 hrilled to partner with Sarah Gregor of The Flower Corner to bring you a o
 ne-of-a-kind bloom-to-table workshop.
X-WR-RELCALID:88652bd3b8d4f52115c39229a55fbe1d
X-WR-TIMEZONE:America/Denver
BEGIN:VTIMEZONE
TZID:America/Denver
BEGIN:STANDARD
TZNAME:MST
DTSTART:20241103T020000
TZOFFSETFROM:-0600
TZOFFSETTO:-0700
RDATE:20251102T020000
RDATE:20261101T020000
END:STANDARD
BEGIN:DAYLIGHT
TZNAME:MDT
DTSTART:20250309T020000
TZOFFSETFROM:-0700
TZOFFSETTO:-0600
RDATE:20260308T020000
RDATE:20270314T020000
END:DAYLIGHT
END:VTIMEZONE
BEGIN:VEVENT
UID:14d5abaa-c6a2-400b-b508-2ee78d621df0
DTSTAMP:20260421T194545Z
DESCRIPTION:On September 30th\, we’re inviting you to gather at the farm fo
 r an unforgettable night of snacks\, sips\, and bouquet-building. We’re th
 rilled to partner with Sarah Gregor of The Flower Corner to bring you a on
 e-of-a-kind bloom-to-table workshop.
DTSTART;TZID=America/Denver:20250930T163000
DTEND;TZID=America/Denver:20250930T183000
LOCATION:225 N Gate Blvd\, Colorado Springs\, CO 80921 US
SUMMARY:Dianne's Dahlias - Floral Design Workshop
END:VEVENT
END:VCALENDAR
