BEGIN:VCALENDAR
VERSION:2.0
PRODID:-//wmmi.org//NONSGML kigkonsult.se iCalcreator 2.30.10//
CALSCALE:GREGORIAN
METHOD:PUBLISH
UID:4cf231eb-a65d-4086-868f-976ec8276810
X-WR-CALDESC:Each monthly session will feature a different STEM or Colorado
  History topic where we explore in the classroom\, in the museum and throu
 ghout the historic Museum Campus.\nWe do require that a supervising adult 
 be present\, but you may work together with other Homeschool families to c
 oordinate supervision. Students of outlying ages/abilities may receive oth
 er age-appropriate activities. For further inquires\, please speak with ou
 r Education Coordinator at education@wmmi.org.
X-WR-RELCALID:527035cceea89065e905a752aed1b851
X-WR-TIMEZONE:America/Denver
BEGIN:VTIMEZONE
TZID:America/Denver
BEGIN:STANDARD
TZNAME:MST
DTSTART:20241103T020000
TZOFFSETFROM:-0600
TZOFFSETTO:-0700
RDATE:20251102T020000
RDATE:20261101T020000
END:STANDARD
BEGIN:DAYLIGHT
TZNAME:MDT
DTSTART:20250309T020000
TZOFFSETFROM:-0700
TZOFFSETTO:-0600
RDATE:20260308T020000
END:DAYLIGHT
END:VTIMEZONE
BEGIN:VEVENT
UID:cfd8c88f-ce04-4c56-a981-cfe80f574508
DTSTAMP:20260421T194447Z
DESCRIPTION:Each monthly session will feature a different STEM or Colorado 
 History topic where we explore in the classroom\, in the museum and throug
 hout the historic Museum Campus.\nWe do require that a supervising adult b
 e present\, but you may work together with other Homeschool families to co
 ordinate supervision. Students of outlying ages/abilities may receive othe
 r age-appropriate activities. For further inquires\, please speak with our
  Education Coordinator at education@wmmi.org.
DTSTART;TZID=America/Denver:20250910T130000
DTEND;TZID=America/Denver:20250910T143000
LOCATION:225 N Gate Blvd\, Colorado Springs\, CO 80921 US
SUMMARY:Homeschool Day - Mapping & Surveying
END:VEVENT
END:VCALENDAR
