BEGIN:VCALENDAR
VERSION:2.0
PRODID:-//wmmi.org//NONSGML kigkonsult.se iCalcreator 2.30.10//
CALSCALE:GREGORIAN
METHOD:PUBLISH
UID:617850b1-308a-4149-ac07-2cfd3c4bfb6b
X-WR-CALDESC:Take a peek into farming life on our historic Reynold’s Cattle
  Ranch. Learn more about farming and ranching with experienced guides and 
 exhibitors on this fun-filled day. Event runs from 10am to 2pm\, but the m
 useum is also open. Outdoor machinery will be demonstrated throughout the 
 day.
X-WR-RELCALID:2f210a7690580cb64df05a96b59b9325
X-WR-TIMEZONE:America/Denver
BEGIN:VTIMEZONE
TZID:America/Denver
BEGIN:STANDARD
TZNAME:MST
DTSTART:20241103T020000
TZOFFSETFROM:-0600
TZOFFSETTO:-0700
RDATE:20251102T020000
RDATE:20261101T020000
END:STANDARD
BEGIN:DAYLIGHT
TZNAME:MDT
DTSTART:20250309T020000
TZOFFSETFROM:-0700
TZOFFSETTO:-0600
RDATE:20260308T020000
END:DAYLIGHT
END:VTIMEZONE
BEGIN:VEVENT
UID:477ba5d6-3535-44c4-93ff-786a9d79546f
DTSTAMP:20260421T212223Z
DESCRIPTION:Take a peek into farming life on our historic Reynold’s Cattle 
 Ranch. Learn more about farming and ranching with experienced guides and e
 xhibitors on this fun-filled day. Event runs from 10am to 2pm\, but the mu
 seum is also open. Outdoor machinery will be demonstrated throughout the d
 ay.
DTSTART;TZID=America/Denver:20250823T100000
DTEND;TZID=America/Denver:20250823T140000
LOCATION:225 N Gate Blvd\, Colorado Springs\, AL 80921 US
SUMMARY:Super Saturday - Farming & Ranching
END:VEVENT
END:VCALENDAR
