BEGIN:VCALENDAR
VERSION:2.0
PRODID:-//wmmi.org//NONSGML kigkonsult.se iCalcreator 2.30.10//
CALSCALE:GREGORIAN
METHOD:PUBLISH
UID:309ed9f3-dac3-40d4-a8f1-053cb2a7361e
X-WR-CALDESC:
X-WR-RELCALID:8da0c2d8bb248b2849e47c3dec8542a2
X-WR-TIMEZONE:America/Denver
BEGIN:VTIMEZONE
TZID:America/Denver
BEGIN:STANDARD
TZNAME:MST
DTSTART:20241103T020000
TZOFFSETFROM:-0600
TZOFFSETTO:-0700
RDATE:20251102T020000
RDATE:20261101T020000
END:STANDARD
BEGIN:DAYLIGHT
TZNAME:MDT
DTSTART:20250309T020000
TZOFFSETFROM:-0700
TZOFFSETTO:-0600
RDATE:20260308T020000
END:DAYLIGHT
END:VTIMEZONE
BEGIN:VEVENT
UID:702ebf3b-f9c7-44a5-b4d8-7bb12dda7d35
DTSTAMP:20260421T212619Z
DESCRIPTION:
DTSTART;TZID=America/Denver:20250812T160000
DTEND;TZID=America/Denver:20250812T170000
LOCATION:225 N Gate Blvd\, Colorado Springs\, CO 80921 US
SUMMARY:Lecture - Julie Bell\, Women of the Colorado Gold Rush
END:VEVENT
END:VCALENDAR
