BEGIN:VCALENDAR
VERSION:2.0
PRODID:-//wmmi.org//NONSGML kigkonsult.se iCalcreator 2.30.10//
CALSCALE:GREGORIAN
METHOD:PUBLISH
UID:88277b58-e784-467f-b525-f7cbfc6dd5a0
X-WR-CALDESC:Get ready for an epic summer of magic and fun at Rocky Mountai
 n Magic Academy 2025 Summer Camp! \nFor ages 7-12\, each day will focus on
  at least two magic tricks and how to perform them\, while having lots of 
 fun! \n\nCampers will also learn the traits of every magician: \n- Prepare
 d\n- Respectful\n- Confident\n- Good communication \n\nHosted by the Rocky
  Mountain Magic Academy.
X-WR-RELCALID:c6d36d7486db935ec4ee6847418193d7
X-WR-TIMEZONE:America/Denver
BEGIN:VTIMEZONE
TZID:America/Denver
BEGIN:STANDARD
TZNAME:MST
DTSTART:20241103T020000
TZOFFSETFROM:-0600
TZOFFSETTO:-0700
RDATE:20251102T020000
RDATE:20261101T020000
END:STANDARD
BEGIN:DAYLIGHT
TZNAME:MDT
DTSTART:20250309T020000
TZOFFSETFROM:-0700
TZOFFSETTO:-0600
RDATE:20260308T020000
END:DAYLIGHT
END:VTIMEZONE
BEGIN:VEVENT
UID:2d9607b8-2c95-4f30-8c0a-68de7d4698fe
DTSTAMP:20260421T212332Z
DESCRIPTION:Get ready for an epic summer of magic and fun at Rocky Mountain
  Magic Academy 2025 Summer Camp! \nFor ages 7-12\, each day will focus on 
 at least two magic tricks and how to perform them\, while having lots of f
 un! \n\nCampers will also learn the traits of every magician: \n- Prepared
 \n- Respectful\n- Confident\n- Good communication \n\nHosted by the Rocky 
 Mountain Magic Academy.
DTSTART;TZID=America/Denver:20250801T133000
DTEND;TZID=America/Denver:20250801T150000
LOCATION:225 N Gate Blvd\, Colorado Springs\, CO 80921 US
SUMMARY:Rocky Mountain Magic Academy Summer Camp
END:VEVENT
END:VCALENDAR
