BEGIN:VCALENDAR
VERSION:2.0
PRODID:-//wmmi.org//NONSGML kigkonsult.se iCalcreator 2.30.10//
CALSCALE:GREGORIAN
METHOD:PUBLISH
UID:cc94c988-ce65-4051-b8c4-35c6950d576a
X-WR-CALDESC:Join us on a captivating journey through Colorado’s rich histo
 ry of gold mining. Our guided tour offers a unique blend of storytelling\,
  machine demonstrations and Colorado history that brings our mining herita
 ge to life! Experience working machinery with experienced guides\, each wi
 th a special story to share. Engage with unique exhibitors to unlock piece
 s of history.\nEvent runs from 10am to 2pm\, but the museum is still open 
 9am to 4pm.\nDemonstrations for the day: \n10:00am - Military Reenactment 
 Group\n10:30am - Main Machines\, lower campus\n11:15am - Stamp Mill \n11:4
 5am - Model A Hoist Engine Display Grand Opening and demonstration\n12:30p
 m - Military Reenactment Group\n1:00pm - Main Machines\, lower campus \n1:
 30pm - Stamp Mill
X-WR-RELCALID:08b9e38ce39a004b5a60dbd82421994f
X-WR-TIMEZONE:America/Denver
BEGIN:VTIMEZONE
TZID:America/Denver
BEGIN:STANDARD
TZNAME:MST
DTSTART:20241103T020000
TZOFFSETFROM:-0600
TZOFFSETTO:-0700
RDATE:20251102T020000
RDATE:20261101T020000
END:STANDARD
BEGIN:DAYLIGHT
TZNAME:MDT
DTSTART:20250309T020000
TZOFFSETFROM:-0700
TZOFFSETTO:-0600
RDATE:20260308T020000
END:DAYLIGHT
END:VTIMEZONE
BEGIN:VEVENT
UID:31add33b-09da-4d7d-895a-3174d88dfc33
DTSTAMP:20260421T235833Z
DESCRIPTION:Join us on a captivating journey through Colorado’s rich histor
 y of gold mining. Our guided tour offers a unique blend of storytelling\, 
 machine demonstrations and Colorado history that brings our mining heritag
 e to life! Experience working machinery with experienced guides\, each wit
 h a special story to share. Engage with unique exhibitors to unlock pieces
  of history.\nEvent runs from 10am to 2pm\, but the museum is still open 9
 am to 4pm.\nDemonstrations for the day: \n10:00am - Military Reenactment G
 roup\n10:30am - Main Machines\, lower campus\n11:15am - Stamp Mill \n11:45
 am - Model A Hoist Engine Display Grand Opening and demonstration\n12:30pm
  - Military Reenactment Group\n1:00pm - Main Machines\, lower campus \n1:3
 0pm - Stamp Mill
DTSTART;TZID=America/Denver:20250621T100000
DTEND;TZID=America/Denver:20250621T140000
LOCATION:225 N Gate Blvd\, Colorado Springs\, CO 80921 US
SUMMARY:Super Saturday - History
END:VEVENT
END:VCALENDAR
