BEGIN:VCALENDAR
VERSION:2.0
PRODID:-//wmmi.org//NONSGML kigkonsult.se iCalcreator 2.30.10//
CALSCALE:GREGORIAN
METHOD:PUBLISH
UID:a0fb5f67-4ab3-4dc1-94af-107768c0ce82
X-WR-CALDESC:Watch the USAFA Graduation Air Show from our campus! \nBring a
  blanket and some lawn chairs to enjoy the fantastic air show right from o
 ur campus across from the Academy!\n$5 per car. Museum admission not inclu
 ded.\n*Timing for this event is contingent upon timing of the graduation a
 nd airshow.
X-WR-RELCALID:3a92a21517411be868077d94a8eecefd
X-WR-TIMEZONE:America/Denver
BEGIN:VTIMEZONE
TZID:America/Denver
BEGIN:STANDARD
TZNAME:MST
DTSTART:20241103T020000
TZOFFSETFROM:-0600
TZOFFSETTO:-0700
RDATE:20251102T020000
RDATE:20261101T020000
END:STANDARD
BEGIN:DAYLIGHT
TZNAME:MDT
DTSTART:20250309T020000
TZOFFSETFROM:-0700
TZOFFSETTO:-0600
RDATE:20260308T020000
END:DAYLIGHT
END:VTIMEZONE
BEGIN:VEVENT
UID:51b33b4e-4b47-4764-ac2a-4cfb7d4b176c
DTSTAMP:20260422T012440Z
DESCRIPTION:Watch the USAFA Graduation Air Show from our campus! \nBring a 
 blanket and some lawn chairs to enjoy the fantastic air show right from ou
 r campus across from the Academy!\n$5 per car. Museum admission not includ
 ed.\n*Timing for this event is contingent upon timing of the graduation an
 d airshow.
DTSTART;TZID=America/Denver:20250529T100000
DTEND;TZID=America/Denver:20250529T160000
LOCATION:225 N Gate Blvd\, Colorado Springs\, CO 80921 US
SUMMARY:Picnic and Planes
END:VEVENT
END:VCALENDAR
