BEGIN:VCALENDAR
VERSION:2.0
PRODID:-//wmmi.org//NONSGML kigkonsult.se iCalcreator 2.30.10//
CALSCALE:GREGORIAN
METHOD:PUBLISH
UID:f67e27da-4596-4105-8f22-2387416a79f1
X-WR-CALDESC:Instructor Jana L. Bussanich\, Yellow Couch Creative\nJoin us 
 for an inspiring outdoor sketching adventure at the Western Museum of Mini
 ng & Industry! In this 90-minute class\, participants will use special pro
 mpt cards to spark creativity and sketch the fascinating sights around the
  museum’s property. Perfect for families and school-aged children\, this h
 ands-on experience encourages observation\, imagination\, and artistic exp
 ression. All materials are included—no prior art experience is needed!\n\n
 Date: Wednesday\, May 14\, 2025\nSessions: 10:30 AM–12:00 PM or 1:00 PM–2:
 30 PM\nPrice: $15 per person\n(6 and under free with participating adult o
 r sibling over 13)\nChildren under 13 must be accompanied by a participati
 ng adult responsible for their safety and behavior.
X-WR-RELCALID:1c18c1a1c63de832530afa10cf1dfb11
X-WR-TIMEZONE:America/Denver
BEGIN:VTIMEZONE
TZID:America/Denver
BEGIN:STANDARD
TZNAME:MST
DTSTART:20241103T020000
TZOFFSETFROM:-0600
TZOFFSETTO:-0700
RDATE:20251102T020000
RDATE:20261101T020000
END:STANDARD
BEGIN:DAYLIGHT
TZNAME:MDT
DTSTART:20250309T020000
TZOFFSETFROM:-0700
TZOFFSETTO:-0600
RDATE:20260308T020000
END:DAYLIGHT
END:VTIMEZONE
BEGIN:VEVENT
UID:86022d21-72d7-4e83-95ec-29eb02527364
DTSTAMP:20260422T012518Z
DESCRIPTION:Instructor Jana L. Bussanich\, Yellow Couch Creative\nJoin us f
 or an inspiring outdoor sketching adventure at the Western Museum of Minin
 g & Industry! In this 90-minute class\, participants will use special prom
 pt cards to spark creativity and sketch the fascinating sights around the 
 museum’s property. Perfect for families and school-aged children\, this ha
 nds-on experience encourages observation\, imagination\, and artistic expr
 ession. All materials are included—no prior art experience is needed!\n\nD
 ate: Wednesday\, May 14\, 2025\nSessions: 10:30 AM–12:00 PM or 1:00 PM–2:3
 0 PM\nPrice: $15 per person\n(6 and under free with participating adult or
  sibling over 13)\nChildren under 13 must be accompanied by a participatin
 g adult responsible for their safety and behavior.
DTSTART;TZID=America/Denver:20250514T103000
DTEND;TZID=America/Denver:20250514T120000
LOCATION:225 N Gate Blvd\, Colorado Springs\, CO 80921 US
SUMMARY:Sketch Hunters Class
END:VEVENT
END:VCALENDAR
