BEGIN:VCALENDAR
VERSION:2.0
PRODID:-//wmmi.org//NONSGML kigkonsult.se iCalcreator 2.30.10//
CALSCALE:GREGORIAN
METHOD:PUBLISH
UID:bf8ea488-a5dd-4d81-98c4-384562a242e6
X-WR-CALDESC:Join us for an amazing day of artistic expression!\n\nExplore 
 immersive exhibits and dive into the creative world of art at the Western 
 Museum of Mining and Industry! Spark your creativity with live machine dem
 onstrations and engage with local artists and creators. General admission 
 applies and members get in free!
X-WR-RELCALID:8d91a4819698423782f0af3d649cd6ef
X-WR-TIMEZONE:America/Denver
BEGIN:VTIMEZONE
TZID:America/Denver
BEGIN:STANDARD
TZNAME:MST
DTSTART:20241103T020000
TZOFFSETFROM:-0600
TZOFFSETTO:-0700
RDATE:20251102T020000
END:STANDARD
BEGIN:DAYLIGHT
TZNAME:MDT
DTSTART:20250309T020000
TZOFFSETFROM:-0700
TZOFFSETTO:-0600
RDATE:20260308T020000
END:DAYLIGHT
END:VTIMEZONE
BEGIN:VEVENT
UID:557cb270-1633-4f5b-ba44-dbd98157fc70
DTSTAMP:20260422T024955Z
DESCRIPTION:Join us for an amazing day of artistic expression!\n\nExplore i
 mmersive exhibits and dive into the creative world of art at the Western M
 useum of Mining and Industry! Spark your creativity with live machine demo
 nstrations and engage with local artists and creators. General admission a
 pplies and members get in free!
DTSTART;TZID=America/Denver:20250426T100000
DTEND;TZID=America/Denver:20250426T160000
LOCATION:225 N Gate Blvd\, Colorado Springs\, CO 80921 US
SUMMARY:Super Saturday - Art
END:VEVENT
END:VCALENDAR
