BEGIN:VCALENDAR
VERSION:2.0
PRODID:-//wmmi.org//NONSGML kigkonsult.se iCalcreator 2.30.10//
CALSCALE:GREGORIAN
METHOD:PUBLISH
UID:5a6c96e7-2c11-4b9f-ab7b-e5f6787f22b3
X-WR-CALDESC:Celebrate Mining Day at the Western Museum of Mining and Indus
 try! \nEnjoy guided tours of our fascinating exhibits\, interact with mini
 ng exhibitors\, try your hand at gold panning\, and watch live machine dem
 onstrations. It's a fun-filled day for the whole family to learn about the
  exciting world of mining!\nGeneral admission applies\, members get in fre
 e!\n\n
X-WR-RELCALID:681213c4d16d5646bb2254d4523aa993
X-WR-TIMEZONE:America/Denver
BEGIN:VTIMEZONE
TZID:America/Denver
BEGIN:STANDARD
TZNAME:MST
DTSTART:20241103T020000
TZOFFSETFROM:-0600
TZOFFSETTO:-0700
RDATE:20251102T020000
END:STANDARD
BEGIN:DAYLIGHT
TZNAME:MDT
DTSTART:20250309T020000
TZOFFSETFROM:-0700
TZOFFSETTO:-0600
RDATE:20260308T020000
END:DAYLIGHT
END:VTIMEZONE
BEGIN:VEVENT
UID:17aeb253-9d27-431a-9b38-ec23cfefb9b6
DTSTAMP:20260422T042715Z
DESCRIPTION:Celebrate Mining Day at the Western Museum of Mining and Indust
 ry! \nEnjoy guided tours of our fascinating exhibits\, interact with minin
 g exhibitors\, try your hand at gold panning\, and watch live machine demo
 nstrations. It's a fun-filled day for the whole family to learn about the 
 exciting world of mining!\nGeneral admission applies\, members get in free
 !\n\n
DTSTART;TZID=America/Denver:20250322T090000
DTEND;TZID=America/Denver:20250322T160000
LOCATION:225 N Gate Blvd\, Colorado Springs\, CO 80921 US
SUMMARY:Super Saturday - Mining
END:VEVENT
END:VCALENDAR
